BEGIN:VCALENDAR
VERSION:2.0
PRODID:-//Sambhav Nepal - ECPv6.15.20//NONSGML v1.0//EN
CALSCALE:GREGORIAN
METHOD:PUBLISH
X-ORIGINAL-URL:https://sambhavnepal.ch
X-WR-CALDESC:Veranstaltungen für Sambhav Nepal
REFRESH-INTERVAL;VALUE=DURATION:PT1H
X-Robots-Tag:noindex
X-PUBLISHED-TTL:PT1H
BEGIN:VTIMEZONE
TZID:Europe/Zurich
BEGIN:DAYLIGHT
TZOFFSETFROM:+0100
TZOFFSETTO:+0200
TZNAME:CEST
DTSTART:20180325T010000
END:DAYLIGHT
BEGIN:STANDARD
TZOFFSETFROM:+0200
TZOFFSETTO:+0100
TZNAME:CET
DTSTART:20181028T010000
END:STANDARD
BEGIN:DAYLIGHT
TZOFFSETFROM:+0100
TZOFFSETTO:+0200
TZNAME:CEST
DTSTART:20190331T010000
END:DAYLIGHT
BEGIN:STANDARD
TZOFFSETFROM:+0200
TZOFFSETTO:+0100
TZNAME:CET
DTSTART:20191027T010000
END:STANDARD
BEGIN:DAYLIGHT
TZOFFSETFROM:+0100
TZOFFSETTO:+0200
TZNAME:CEST
DTSTART:20200329T010000
END:DAYLIGHT
BEGIN:STANDARD
TZOFFSETFROM:+0200
TZOFFSETTO:+0100
TZNAME:CET
DTSTART:20201025T010000
END:STANDARD
END:VTIMEZONE
BEGIN:VEVENT
DTSTART;TZID=Europe/Zurich:20191102T110000
DTEND;TZID=Europe/Zurich:20191116T170000
DTSTAMP:20260424T175532
CREATED:20210921T140112Z
LAST-MODIFIED:20210921T140144Z
UID:10000049-1572692400-1573923600@sambhavnepal.ch
SUMMARY:Mitglieder Rebuild Tour 2019
DESCRIPTION:In die Dörfer reisen und mit den Einheimischen gemeinsam am Wiederaufbau arbeiten. Begegnung und Kultur erleben\, wie es einem normalen Touristen nicht eröffnet wird.Wir reisen gemeinsam von Kathmandu mit dem Jeep in unsere Dörfer. Während sechs Tagen leben wir mit den Einheimischen und helfen ihnen beim Wiederaufbau. Wir besuchen die Schulen\, wandern durch die Gegend\, erkunden die Umgebung\, lernen von den Dorfbewohnern wie sie mit der Natur leben. Wir geniessen das Leben weg von der Hektik\, dem vielen Angebot und dem täglichen Stress. Eintauchen in eine andere Welt. Vor oder nach den Rebuild-Aktivitäten können in Kathmandu und/oder in Pokhara weitere Tage eingebaut werden. Das Programm ist flexibel und passt sich jedermanns Möglichkeiten an. (Im Zeitraum vom 2.11. – 16.11. sind drei Tage Kathmandu sowie vier Tage Pokhara enthalten.) \n\n\n\nDas Schulhaus Bhairabi liegt in Ratmate\, sowie die Schule Dharapani befindet sich 20 Min unterhalb. \n\n\n\nIn diesem Dorf hat Sambhav das erste Projekt durchgeführt. Prem ist in Ratmate aufgewachsen. Es ist der Ort\, wo ich mich „zu Hause“ fühle … \n\n\n\nWir wohnen in Zelten (einzel oder zu zweit) und haben ein kleines\, feines Camp für uns\, mit Küche und Dining-Zelt.                                                      \n\n\n\nDie Rebuild-Aktivitäten sind im Dorf: Schulhaus Bhairabi u/o Häuser. \n\n\n\nWer möchte: “one day as a Himalayan farmer”. Einen Tag erleben\, wie ein Berbbauer im Himalaya lebt. Im November ist die Reis-Ernte. \n\n\n\nBesuch unserer Coffee-Gardens. \n\n\n\nDas neue Projekt „Women Committee“ wird in Ratmate sein zentrales Büro/Working Space haben und nach meinem Besuch im Juli bereits in die Startphase kommen. \n\n\n\nNeben dem Mitarbeiten auf den Baustellen\, haben wir die Möglichkeit\, folgende Aktivitäten zu geniessen:                                                                           \n\n\n\nSpaziergänge in der Umgebung (leichtes Trekking)\, kennen lernen der Natur und wie die Menschen dort MIT der Natur leben => Staunen inklusive 😉Schul-Besuch => wir sind alle eingeladen\, den Kindern (Primarschule) etwas zu zeigen / lernen. Das kann Sport sein\, Malen\, Singen\, Yoga – es sind keine Grenzen gesetzt. Bitte nehmt mit mir Kontakt auf\, dass wir besprechen können was man beitragen kann.Lokales Handwerk kennen lernen: Schreinerei\, Gorkha-Messer-Herstellung\, Teppich-Herstellung aus getrockneten Reis-PflanzenBesuch Arughat (Hauptdorf mit Markt\, Läden\, einem lokalen Restaurant)Yoga mit Melanie – ich werde in der Schule Yoga unterrichten\, wo jeder mitmachen kann.\n\n\n\nDetails in den beiden Programmen: long und short Varianten (die Reisedauer ist \n\n\n\nindividuell flexibel. Mehr Informationen bei Kontakt).
URL:https://sambhavnepal.ch/veranstaltung/mitglieder-rebuild-tour-2019/
LOCATION:Nepal\, Ratmate\, Nepal
ATTACH;FMTTYPE=image/jpeg:https://sambhavnepal.ch/wp-content/uploads/2021/09/Rebuild-2019-6-jpeg.webp
END:VEVENT
END:VCALENDAR