BEGIN:VCALENDAR
VERSION:2.0
PRODID:-//Sambhav Nepal - ECPv6.15.20//NONSGML v1.0//EN
CALSCALE:GREGORIAN
METHOD:PUBLISH
X-WR-CALNAME:Sambhav Nepal
X-ORIGINAL-URL:https://sambhavnepal.ch
X-WR-CALDESC:Veranstaltungen für Sambhav Nepal
REFRESH-INTERVAL;VALUE=DURATION:PT1H
X-Robots-Tag:noindex
X-PUBLISHED-TTL:PT1H
BEGIN:VTIMEZONE
TZID:Europe/Zurich
BEGIN:DAYLIGHT
TZOFFSETFROM:+0100
TZOFFSETTO:+0200
TZNAME:CEST
DTSTART:20200329T010000
END:DAYLIGHT
BEGIN:STANDARD
TZOFFSETFROM:+0200
TZOFFSETTO:+0100
TZNAME:CET
DTSTART:20201025T010000
END:STANDARD
BEGIN:DAYLIGHT
TZOFFSETFROM:+0100
TZOFFSETTO:+0200
TZNAME:CEST
DTSTART:20210328T010000
END:DAYLIGHT
BEGIN:STANDARD
TZOFFSETFROM:+0200
TZOFFSETTO:+0100
TZNAME:CET
DTSTART:20211031T010000
END:STANDARD
BEGIN:DAYLIGHT
TZOFFSETFROM:+0100
TZOFFSETTO:+0200
TZNAME:CEST
DTSTART:20220327T010000
END:DAYLIGHT
BEGIN:STANDARD
TZOFFSETFROM:+0200
TZOFFSETTO:+0100
TZNAME:CET
DTSTART:20221030T010000
END:STANDARD
END:VTIMEZONE
BEGIN:VEVENT
DTSTART;TZID=Europe/Zurich:20211125T110000
DTEND;TZID=Europe/Zurich:20211205T220000
DTSTAMP:20260424T154147
CREATED:20210921T132818Z
LAST-MODIFIED:20211015T220234Z
UID:10000038-1637838000-1638741600@sambhavnepal.ch
SUMMARY:Zürcher Wiehnachtsdorf 2021
DESCRIPTION:Wir sind mit dabei\, am Zürcher Wiehnachtsdorf am Bellevue.Es wird unser exquisites Cashmere geben\, die im Himalaya handgefertigten Klangschalen und natürlich unseren ALAYA Kaffee. Kali & Nila werden auch da sein … und noch weitere Weihnachtsüberraschungen. \n\n\n\nKommt vorbei – wir freuen uns auf euch. \n\n\n\nhttps://wienachtsdorf.ch/
URL:https://sambhavnepal.ch/veranstaltung/zuercher-wiehnachtsdorf-2021/
LOCATION:Zürcher Wiehnachtsdorf am Bellevue\, Sechseläutenplatz\, Zürich\, Schweiz
ATTACH;FMTTYPE=image/png:https://sambhavnepal.ch/wp-content/uploads/2021/09/weihnachtsdorf-bellvue.png
END:VEVENT
END:VCALENDAR